BEGIN:VCALENDAR
PRODID:-//AT Content Types//AT Event//EN
VERSION:2.0
METHOD:PUBLISH
BEGIN:VEVENT
DTSTAMP:20260423T165724Z
CREATED:20120322T090712Z
UID:ATEvent-a5158969a92c6fedea7a11f03811b637
LAST-MODIFIED:20120322T090745Z
SUMMARY:WORKSHOP Minorías Étnicas e Inmigración en la Sociedad Contemporánea
DTSTART:20120328T100000Z
DTEND:20120328T113000Z
DESCRIPTION:WORKSHOP Minorías Étnicas e Inmigración en la Sociedad 
 Contemporánea \nA cargo de Sébatien Arcand (Hautes études commercia
 les de Montreal\, HEC\, Canadá)
LOCATION:Facultad de Trabajo Social - Universidad de Huelva
CATEGORIES:Conferencias
CLASS:PUBLIC
END:VEVENT
END:VCALENDAR
