BEGIN:VCALENDAR
PRODID:-//AT Content Types//AT Event//EN
VERSION:1.0
BEGIN:VEVENT
DTSTART:20160420T143000Z
DTEND:20160420T143000Z
DCREATED:20160325T172030Z
UID:ATEvent-692c31928f2c41dfae80f6c5b8d270a1
SEQUENCE:0
LAST-MODIFIED:20160325T172053Z
SUMMARY:CONFERENCIA "BIG DATA Y CIENCIAS SOCIALES"\, por MODESTO ESCOBAR
DESCRIPTION:Conferencia de Modesto Escobar\, CatedrÃ¡tico de SociologÃ
 ­a del Departamento de SociologÃ­a y ComunicaciÃ³n de la Facultad de C
 iencias Sociales de la Universidad de Salamanca\, que ofrecerÃ¡ la con
 ferencia marco del II Seminario "Big Data\, Social Media & Society" ti
 tulada: "Big Data y Ciencias Sociales".
LOCATION:Facultad de Trabajo Social\, Universidad de Huelva
PRIORITY:3
TRANSP:0
END:VEVENT
END:VCALENDAR
