BEGIN:VCALENDAR
PRODID:-//AT Content Types//AT Event//EN
VERSION:1.0
BEGIN:VEVENT
DTSTART:20110414T200000Z
DTEND:20110520T200000Z
DCREATED:20110413T150041Z
UID:ATEvent-8478346d0ebb90b23bc8d629c4ab2e66
SEQUENCE:0
LAST-MODIFIED:20110414T200659Z
SUMMARY:Concurso: Las aportaciones positivas de la inmigración en Andalucía
DESCRIPTION:CONCURSO DE FOTOS\, VÍDEOS Y RELATOS: LAS APORTACIONES PO
 SITIVAS DE LA INMIGRACIÓN EN ANDALUCÍA. Último día para presentar 
 obras: 20 de mayo de 2011\, a las 22 horas\, hora española.
LOCATION:eseis
PRIORITY:3
TRANSP:0
END:VEVENT
END:VCALENDAR
