BEGIN:VCALENDAR
PRODID:-//AT Content Types//AT Event//EN
VERSION:2.0
METHOD:PUBLISH
BEGIN:VEVENT
DTSTAMP:20260423T122352Z
CREATED:20220325T232303Z
UID:ATEvent-aacbbd221a794f50ad34690d30bb78de
LAST-MODIFIED:20220325T232606Z
SUMMARY:CONFERENCIA: "JUICIO\, SENTIDO COMÚN Y DISCERNIMIENTO" (4 de abril de 2022)
DTSTART:20220404T153000Z
DTEND:20220404T173000Z
DESCRIPTION:A cargo de Emilia Martinez-Brawley\, Profesora Distinguida
  John F. Roatch de Trabajo Social\, Arizona State University\, Estados
  Unidos
LOCATION:Facultad de Trabajo Social\, Universidad de Huelva
URL:https://eseis.es/workshops/conferencia-juicio-sentido-comun-y-discernimiento
CLASS:PUBLIC
END:VEVENT
END:VCALENDAR
