BEGIN:VCALENDAR
PRODID:-//AT Content Types//AT Event//EN
VERSION:1.0
BEGIN:VEVENT
DTSTART:20101104T150000Z
DTEND:20101106T130000Z
DCREATED:20101011T224710Z
UID:ATEvent-eb7856d92f15866b3eb6d3372fcf18b3
SEQUENCE:0
LAST-MODIFIED:20101011T224723Z
SUMMARY:V Congreso Andaluz de Sociología
DESCRIPTION:Entre los días 4 y 6 de noviembre de 2010 tendrá lugar e
 n Córdoba el próximo V Congreso Andaluz de Sociología Pluralismo y 
 Libertad\, en el que participan algunos de nuestros investigadores.
LOCATION:Córdoba
PRIORITY:3
TRANSP:0
END:VEVENT
END:VCALENDAR
