BEGIN:VCALENDAR
PRODID:-//AT Content Types//AT Event//EN
VERSION:2.0
METHOD:PUBLISH
BEGIN:VEVENT
DTSTAMP:20260422T082339Z
CREATED:20190522T120116Z
UID:ATEvent-83d15aa2bc0d434494452666146d1af3
LAST-MODIFIED:20190522T120212Z
SUMMARY:TEORÍAS DE LA CONSPIRACIÓN EN EUROPA: Reunión internacional en la Universidad de Huelva
DTSTART:20190523T080000Z
DTEND:20190524T150000Z
DESCRIPTION:23 Y 24 de mayo de 2019
URL:https://conspiracytheories.eu
CLASS:PUBLIC
END:VEVENT
END:VCALENDAR
