BEGIN:VCALENDAR
PRODID:-//AT Content Types//AT Event//EN
VERSION:2.0
METHOD:PUBLISH
BEGIN:VEVENT
DTSTAMP:20260423T152023Z
CREATED:20110201T210647Z
UID:ATEvent-893a5ffd53d9e7f7a4a1d394d5dcfd2d
LAST-MODIFIED:20110201T210719Z
SUMMARY:Entrega de premios sorteo Estudio HIJAI2
DTSTART:20110202T113000Z
DTEND:20110202T123000Z
DESCRIPTION:El miércoles 2 de febrero de 2011 se entregan los premios
  del sorteo celebrado entre los participantes en la investigación sob
 re La Segunda Generación de Inmigrantes en Huelva: Estudio HIJAI2.
CATEGORIES:Conferencias
CLASS:PUBLIC
END:VEVENT
END:VCALENDAR
