BEGIN:VCALENDAR
PRODID:-//AT Content Types//AT Event//EN
VERSION:2.0
METHOD:PUBLISH
BEGIN:VEVENT
DTSTAMP:20260423T161306Z
CREATED:20230604T122415Z
UID:ATEvent-efa28a038941453abc6fd91eb8ee1dbc
LAST-MODIFIED:20230604T122955Z
SUMMARY:[PLAZO AMPLIADO/ EXTENDED DEADLINE: 9 DE JUNIO DE 2023] CALL FOR PAPERS I INTERNATIONAL WORKSHOP ON "CONSPIRACY THEORIES AND HATE SPEECH ONLINE"
DTSTART:20230612T100000Z
DTEND:20230614T180000Z
DESCRIPTION:COMPARISON OF PATTERNS IN NARRATIVES AND SOCIAL MEDIA ABOU
 T COVID-19\, IMMIGRANTS\, REFUGEES AND LGTBIQ+ PEOPLE”. Universidad 
 de Huelva\, 12-14 de julio de 2023. Campus El Carmen. Facultad de Trab
 ajo Social\, C.2.3 y en línea (Zoom)
LOCATION:University of Huelva & Online
CONTACT:nonconspirahate@uhu.es
URL:http://eventos.uhu.es/go/nonconspirahate
CLASS:PUBLIC
END:VEVENT
END:VCALENDAR
