BEGIN:VCALENDAR
PRODID:-//AT Content Types//AT Event//EN
VERSION:1.0
BEGIN:VEVENT
DTSTART:20130530T220000Z
DTEND:20130531T215500Z
DCREATED:20130502T173326Z
UID:ATEvent-bb12677e23734a2bb12597cd25ef8e1d
SEQUENCE:0
LAST-MODIFIED:20130502T173336Z
SUMMARY:Mediación intercultural en la atención en salud: Ampliado el plazo de presentación de comunicaciones hasta el 31 de mayo de 2013
DESCRIPTION:El Centro de Investigación de Migraciones de la Universid
 ad de Huelva\, con la cooperación de destacados expertos internaciona
 les\, ha organizado un Encuentro Internacional sobre Mediación Interc
 ultural en la Atención en Salud\, que tendrá lugar en Huelva los dí
 as 19 y 20 de septiembre de 2013.
LOCATION:Centro de Investigación en Migraciones\, Universidad de Huelva
PRIORITY:3
TRANSP:0
END:VEVENT
END:VCALENDAR
