BEGIN:VCALENDAR
PRODID:-//AT Content Types//AT Event//EN
VERSION:1.0
BEGIN:VEVENT
DTSTART:20160420T070000Z
DTEND:20160420T190000Z
DCREATED:20160325T171030Z
UID:ATEvent-a485991ae5e041f998c910878979c064
SEQUENCE:0
LAST-MODIFIED:20160325T171133Z
SUMMARY:CALL FOR PAPERS: II SEMINARIO "BIG DATA\, SOCIAL MEDIA & SOCIETY"
DESCRIPTION:Facultad de Trabajo Social\, Universidad de Huelva\, EspaĆ
 ±a (20 de abril de 2016)
PRIORITY:3
TRANSP:0
END:VEVENT
END:VCALENDAR
