BEGIN:VCALENDAR
PRODID:-//AT Content Types//AT Event//EN
VERSION:1.0
BEGIN:VEVENT
DTSTART:20150325T153000Z
DTEND:20150325T183000Z
DCREATED:20150323T152751Z
UID:ATEvent-ebad5a9ad314452988137b193d6faf7a
SEQUENCE:0
LAST-MODIFIED:20150323T153247Z
SUMMARY:I Seminario de Investigación en "Big Data\, Social Media & Society"
DESCRIPTION:Facultad de Trabajo Social\, Universidad de Huelva (25 de 
 marzo de 2015\, 16.30 horas)
LOCATION:Facultad de Trabajo Social\, Universidad de Huelva
PRIORITY:3
TRANSP:0
END:VEVENT
END:VCALENDAR
