BEGIN:VCALENDAR
PRODID:-//AT Content Types//AT Event//EN
VERSION:1.0
BEGIN:VEVENT
DTSTART:20150325T113000Z
DTEND:20150325T130000Z
DCREATED:20150323T151749Z
UID:ATEvent-da0e77c51fee488fb9a888ab6fc27b6e
SEQUENCE:0
LAST-MODIFIED:20150323T151801Z
SUMMARY:Minería de datos sociales\, de las APIs a la visualización
DESCRIPTION:Universidad de Huelva\, Laboratorio de Emprendimiento SIMP
 LELAB\, Edificio Galileo\, Universidad de Huelva\, 25 de marzo de 2015
 \, 12.30 horas.
PRIORITY:3
TRANSP:0
END:VEVENT
END:VCALENDAR
