BEGIN:VCALENDAR
PRODID:-//AT Content Types//AT Event//EN
VERSION:2.0
METHOD:PUBLISH
BEGIN:VEVENT
DTSTAMP:20260423T173621Z
CREATED:20140604T085040Z
UID:ATEvent-36df17150ef44860a246f63f1caa697d
LAST-MODIFIED:20140604T104456Z
SUMMARY:PRÓXIMO CURSO (Huelva): Análisis de las novedades normativas en el ámbito de la extranjería y la interculturalidad
DTSTART:20140618T070000Z
DTEND:20140620T113000Z
DESCRIPTION:Próximo curso en Huelva (18,19 y 20 junio 2014). Curso de
  Formación en interculturalidad (FORINTER). Curso de formación espec
 ializada. Análisis de las novedades normativas en el ámbito de la ex
 tranjería y la interculturalidad.
LOCATION:Huelva
CONTACT:Estrella Gualda Caballero\, 959219567\, estrella@uhu.es
CLASS:PUBLIC
END:VEVENT
END:VCALENDAR
