BEGIN:VCALENDAR
PRODID:-//AT Content Types//AT Event//EN
VERSION:2.0
METHOD:PUBLISH
BEGIN:VEVENT
DTSTAMP:20260426T035310Z
CREATED:20150323T151517Z
UID:ATEvent-053fb8f5cd94456eba674108bae33454
LAST-MODIFIED:20150323T151528Z
SUMMARY:Cómo usar y aprovechar las Redes Sociales para el trabajo docente y profesional
DTSTART:20150325T100000Z
DTEND:20150325T111500Z
DESCRIPTION:Facultad de Trabajo Social\, Universidad de Huelva (25 de 
 marzo de 2015\, 11.00 horas)
LOCATION:Facultad de Trabajo Social\, Universidad de Huelva
URL:http://eseis.es/investigacion/big-data/usar-redessociales
CLASS:PUBLIC
END:VEVENT
END:VCALENDAR
