BEGIN:VCALENDAR
PRODID:-//AT Content Types//AT Event//EN
VERSION:2.0
METHOD:PUBLISH
BEGIN:VEVENT
DTSTAMP:20260423T150402Z
CREATED:20101221T160859Z
UID:ATEvent-31522e581c9ee35ca3c41346b9264909
LAST-MODIFIED:20210803T143906Z
SUMMARY:Presentación del libro La Segunda Generación de Inmigrantes en Huelva. Estudio Hijai
DTSTART:20101223T100000Z
DTEND:20101223T110000Z
DESCRIPTION:El 23 de diciembre\, a las 11 de la mañana\, en la Facult
 ad de Trabajo Social de la Universidad de Huelva\, Aula de Grados\, te
 ndrá lugar la presentación del libro La Segunda Generación de Inmig
 rantes en Huelva. Estudio Hijai.
LOCATION:Facultad de Trabajo Social\, Aula de Grados
CATEGORIES:Presentación de Libro
CLASS:PUBLIC
END:VEVENT
END:VCALENDAR
