BEGIN:VCALENDAR
PRODID:-//AT Content Types//AT Event//EN
VERSION:2.0
METHOD:PUBLISH
BEGIN:VEVENT
DTSTAMP:20260421T154222Z
CREATED:20150209T230824Z
UID:ATEvent-d06a4b9eb6ec4b45829afcd5d0a11578
LAST-MODIFIED:20210803T143906Z
SUMMARY:Seminario "Inmigración y Participación Social"
DTSTART:20150224T080000Z
DTEND:20150224T080000Z
DESCRIPTION:El próximo 24 de febrero celebramos en la Facultad de Tra
 bajo Social de la Universidad de Huelva nuestro seminario "Inmigració
 n y Participación Social"\, en horario de 9 a 14 horas.
LOCATION:Facultad de Trabajo Social\, Universidad de Huelva
URL:http://eseis.es/investigacion/diverse-project/sem-participacion
CLASS:PUBLIC
END:VEVENT
END:VCALENDAR
