BEGIN:VCALENDAR
PRODID:-//AT Content Types//AT Event//EN
VERSION:1.0
BEGIN:VEVENT
DTSTART:20150204T080000Z
DTEND:20150204T130000Z
DCREATED:20150116T230153Z
UID:ATEvent-40f15bd475294713aa1de55990dbeba0
SEQUENCE:0
LAST-MODIFIED:20210803T143906Z
SUMMARY:Seminario "GESTIÓN DE LA DIVERSIDAD. Estudios de caso en Andalucía"
DESCRIPTION:Facultad de Trabajo Social\, Universidad de Huelva\, aula 
 de grados (4 de febrero de 2015)
LOCATION:Huelva
PRIORITY:3
TRANSP:0
END:VEVENT
END:VCALENDAR
