BEGIN:VCALENDAR
PRODID:-//AT Content Types//AT Event//EN
VERSION:1.0
BEGIN:VEVENT
DTSTART:20101105T080000Z
DTEND:20101105T183000Z
DCREATED:20101103T114643Z
UID:ATEvent-b04f675e9a5eb140dbf7b3717b026694
SEQUENCE:0
LAST-MODIFIED:20210803T152648Z
SUMMARY:Edad\, Familia y Género en el V Congreso Andaluz de Sociología
DESCRIPTION:El día 5 trabaja en Córdoba el Grupo sobre Edad\, Famili
 a y Género del V Congreso Andaluz de Sociología.
LOCATION:Córdoba
PRIORITY:3
TRANSP:0
END:VEVENT
END:VCALENDAR
